{ "currentVersion": 11.4, "serviceDescription": "
An accurate depiction of the spatial distribution of habitat types within California is required for a variety of legislatively-mandated government functions. The California Department of Forestry and Fire Protections CALFIRE Fire and Resource Assessment Program (FRAP), in cooperation with California Department of Fish and Wildlife VegCamp program and extensive use of USDA Forest Service Region 5 Remote Sensing Laboratory (RSL) data, has compiled the \"best available\" land cover data available for California into a single comprehensive statewide data set. The data span a period from approximately 1990 to 2014. Typically the most current, detailed and consistent data were collected for various regions of the state. Decision rules were developed that controlled which layers were given priority in areas of overlap. Cross-walks were used to compile the various sources into the common classification scheme, the California Wildlife Habitat Relationships (CWHR) system.<\/span><\/p><\/div><\/div><\/div>",
"name": "AllCal_veg_biomass/Fveg_CWHR",
"description": " An accurate depiction of the spatial distribution of habitat types within California is required for a variety of legislatively-mandated government functions. The California Department of Forestry and Fire Protections CALFIRE Fire and Resource Assessment Program (FRAP), in cooperation with California Department of Fish and Wildlife VegCamp program and extensive use of USDA Forest Service Region 5 Remote Sensing Laboratory (RSL) data, has compiled the \"best available\" land cover data available for California into a single comprehensive statewide data set. The data span a period from approximately 1990 to 2014. Typically the most current, detailed and consistent data were collected for various regions of the state. Decision rules were developed that controlled which layers were given priority in areas of overlap. Cross-walks were used to compile the various sources into the common classification scheme, the California Wildlife Habitat Relationships (CWHR) system.<\/span><\/p><\/div><\/div><\/div>",
"extent": {
"xmin": -918537.1459000353,
"ymin": -896040,
"xmax": 832262.8540999647,
"ymax": 812400,
"spatialReference": {
"wkid": 3310,
"latestWkid": 3310
}
},
"initialExtent": {
"xmin": -918537.1459000353,
"ymin": -896040,
"xmax": 832262.8540999647,
"ymax": 812400,
"spatialReference": {
"wkid": 3310,
"latestWkid": 3310
}
},
"fullExtent": {
"xmin": -918537.1459000353,
"ymin": -896040,
"xmax": 832262.8540999647,
"ymax": 812400,
"spatialReference": {
"wkid": 3310,
"latestWkid": 3310
}
},
"sortableFields": "",
"bandCount": 1,
"pixelType": "U8",
"minValues": [
0
],
"maxValues": [
62
],
"meanValues": [
4.1880245568702
],
"stdvValues": [
12.430181900875
],
"hasMultidimensions": false,
"pixelSizeX": 30,
"pixelSizeY": 30,
"meanPixelSize": 30,
"datasetFormat": "TIFF",
"uncompressedSize": 3323485280,
"blockWidth": 128,
"blockHeight": 128,
"compressionType": "None",
"bandNames": [
"Band_1"
],
"allowCopy": true,
"allowAnalysis": true,
"itemAccess": false,
"inspectionCapabilities": "",
"minPixelSize": 0,
"maxPixelSize": 0,
"copyrightText": "https://wildlife.ca.gov/Data/VegCAMP http://www.fs.fed.us/r5/rsl/projects/mapping/ http://www.fs.fed.us/pnw/fia/ https://frap.fire.ca.gov/",
"serviceDataType": "esriImageServiceDataTypeThematic",
"serviceSourceType": "esriImageServiceSourceTypeDataset",
"objectIdField": "",
"fields": [],
"capabilities": "Mensuration,Image,Metadata",
"defaultMosaicMethod": "Center",
"allowedMosaicMethods": "",
"sortField": "",
"sortValue": null,
"sortAscending": true,
"mosaicOperator": "First",
"defaultCompressionQuality": 75,
"defaultResamplingMethod": "Nearest",
"maxImageHeight": 4100,
"maxImageWidth": 15000,
"allowRasterFunction": true,
"rasterFunctionInfos": [
{
"name": "Shrubs_only_item",
"description": "afdasefas",
"help": ""
},
{
"name": "Grass",
"description": "A raster function template.",
"help": ""
},
{
"name": "CWHR_shrubs",
"description": "Shrub classess for reclassed CHWHR",
"help": ""
},
{
"name": "Shrubs",
"description": "A raster function template.",
"help": ""
},
{
"name": "Woodlandss.rft",
"description": "A raster function template.",
"help": ""
},
{
"name": "None",
"description": "",
"help": ""
}
],
"rasterTypeInfos": [
{
"name": "Raster Dataset",
"description": "Supports all ArcGIS Raster Datasets",
"help": ""
}
],
"mensurationCapabilities": "Basic",
"hasHistograms": true,
"hasColormap": false,
"hasRasterAttributeTable": true,
"minScale": 0,
"maxScale": 0,
"exportTilesAllowed": false,
"supportsStatistics": false,
"supportsAdvancedQueries": false,
"editFieldsInfo": null,
"ownershipBasedAccessControlForRasters": null,
"allowComputeTiePoints": false,
"useStandardizedQueries": true,
"advancedQueryCapabilities": {
"useStandardizedQueries": true,
"supportsStatistics": false,
"supportsOrderBy": false,
"supportsDistinct": false,
"supportsPagination": false
},
"spatialReference": {
"wkid": 3310,
"latestWkid": 3310
},
"resampling": false
}