{
 "currentVersion": 11.4,
 "serviceDescription": "AllCal_veg_biomass/RCMAP_Shrub_1986_tif",
 "name": "AllCal_veg_biomass/RCMAP_Shrub_1986_tif",
 "description": "",
 "extent": {
  "xmin": -374007.1459000353,
  "ymin": -604500,
  "xmax": 540092.8540999647,
  "ymax": 450030,
  "spatialReference": {
   "wkid": 3310,
   "latestWkid": 3310
  }
 },
 "initialExtent": {
  "xmin": -374007.1459000353,
  "ymin": -604500,
  "xmax": 540092.8540999647,
  "ymax": 450030,
  "spatialReference": {
   "wkid": 3310,
   "latestWkid": 3310
  }
 },
 "fullExtent": {
  "xmin": -374007.1459000353,
  "ymin": -604500,
  "xmax": 540092.8540999647,
  "ymax": 450030,
  "spatialReference": {
   "wkid": 3310,
   "latestWkid": 3310
  }
 },
 "sortableFields": "",
 "bandCount": 1,
 "pixelType": "U8",
 "minValues": [
  0
 ],
 "maxValues": [
  1
 ],
 "meanValues": [
  0.10698701762071
 ],
 "stdvValues": [
  0.30909674176552
 ],
 "hasMultidimensions": false,
 "pixelSizeX": 30,
 "pixelSizeY": 30,
 "meanPixelSize": 30,
 "datasetFormat": "TIFF",
 "uncompressedSize": 1071050970,
 "blockWidth": 128,
 "blockHeight": 128,
 "compressionType": "LZW",
 "bandNames": [
  "Band_1"
 ],
 "allowCopy": true,
 "allowAnalysis": true,
 "itemAccess": false,
 "inspectionCapabilities": "",
 "noDataValue": -1.7976931E308,
 "noDataValues": [
  -1.7976931E308
 ],
 "minPixelSize": 0,
 "maxPixelSize": 0,
 "copyrightText": "",
 "serviceDataType": "esriImageServiceDataTypeGeneric",
 "serviceSourceType": "esriImageServiceSourceTypeDataset",
 "objectIdField": "",
 "fields": [],
 "capabilities": "Image,Metadata,Mensuration",
 "defaultMosaicMethod": "Center",
 "allowedMosaicMethods": "",
 "sortField": "",
 "sortValue": null,
 "sortAscending": true,
 "mosaicOperator": "First",
 "defaultCompressionQuality": 75,
 "defaultResamplingMethod": "Bilinear",
 "maxImageHeight": 4100,
 "maxImageWidth": 15000,
 "allowRasterFunction": true,
 "rasterFunctionInfos": [
  {
   "name": "None",
   "description": "",
   "help": ""
  }
 ],
 "rasterTypeInfos": [
  {
   "name": "Raster Dataset",
   "description": "Supports all ArcGIS Raster Datasets",
   "help": ""
  }
 ],
 "mensurationCapabilities": "Basic",
 "hasHistograms": true,
 "hasColormap": false,
 "hasRasterAttributeTable": true,
 "minScale": 0,
 "maxScale": 0,
 "exportTilesAllowed": false,
 "supportsStatistics": false,
 "supportsAdvancedQueries": false,
 "editFieldsInfo": null,
 "ownershipBasedAccessControlForRasters": null,
 "allowComputeTiePoints": false,
 "useStandardizedQueries": true,
 "advancedQueryCapabilities": {
  "useStandardizedQueries": true,
  "supportsStatistics": false,
  "supportsOrderBy": false,
  "supportsDistinct": false,
  "supportsPagination": false
 },
 "spatialReference": {
  "wkid": 3310,
  "latestWkid": 3310
 }
}
