{
 "currentVersion": 11.4,
 "serviceDescription": "AllCal_veg_biomass/ShrublandSegmentationMap_13Nov2025",
 "name": "AllCal_veg_biomass/ShrublandSegmentationMap_13Nov2025",
 "description": "",
 "extent": {
  "xmin": -425173.85258526,
  "ymin": -736370.5636150965,
  "xmax": 586456.4909213567,
  "ymax": 615599.8026387645,
  "spatialReference": {
   "wkid": 3310,
   "latestWkid": 3310
  }
 },
 "initialExtent": {
  "xmin": -425173.85258526,
  "ymin": -736370.5636150965,
  "xmax": 586456.4909213567,
  "ymax": 615599.8026387645,
  "spatialReference": {
   "wkid": 3310,
   "latestWkid": 3310
  }
 },
 "fullExtent": {
  "xmin": -425173.85258526,
  "ymin": -736370.5636150965,
  "xmax": 586456.4909213567,
  "ymax": 615599.8026387645,
  "spatialReference": {
   "wkid": 3310,
   "latestWkid": 3310
  }
 },
 "sortableFields": "",
 "bandCount": 1,
 "pixelType": "U16",
 "minValues": [
  1
 ],
 "maxValues": [
  88
 ],
 "meanValues": [
  -9999
 ],
 "stdvValues": [
  -9999
 ],
 "hasMultidimensions": false,
 "pixelSizeX": 29.999120559475024,
 "pixelSizeY": 29.999120559475028,
 "meanPixelSize": 29.999120559475024,
 "datasetFormat": "TIFF",
 "uncompressedSize": 3039498748,
 "blockWidth": 33722,
 "blockHeight": 1,
 "compressionType": "LZW",
 "bandNames": [
  "SegmentDefinition"
 ],
 "allowCopy": true,
 "allowAnalysis": true,
 "itemAccess": false,
 "inspectionCapabilities": "",
 "noDataValue": 65535,
 "noDataValues": [
  65535
 ],
 "minPixelSize": 0,
 "maxPixelSize": 0,
 "copyrightText": "",
 "serviceDataType": "esriImageServiceDataTypeGeneric",
 "serviceSourceType": "esriImageServiceSourceTypeDataset",
 "objectIdField": "",
 "fields": [],
 "capabilities": "Mensuration,Image,Metadata",
 "defaultMosaicMethod": "Center",
 "allowedMosaicMethods": "",
 "sortField": "",
 "sortValue": null,
 "sortAscending": true,
 "mosaicOperator": "First",
 "defaultCompressionQuality": 75,
 "defaultResamplingMethod": "Nearest",
 "maxImageHeight": 4100,
 "maxImageWidth": 15000,
 "allowRasterFunction": true,
 "rasterFunctionInfos": [
  {
   "name": "CARB_Segs_EVT",
   "description": "CARB segs evt",
   "help": ""
  },
  {
   "name": "None",
   "description": "",
   "help": ""
  }
 ],
 "rasterTypeInfos": [
  {
   "name": "Raster Dataset",
   "description": "Supports all ArcGIS Raster Datasets",
   "help": ""
  }
 ],
 "mensurationCapabilities": "Basic",
 "hasHistograms": false,
 "hasColormap": false,
 "hasRasterAttributeTable": false,
 "minScale": 0,
 "maxScale": 0,
 "exportTilesAllowed": false,
 "supportsStatistics": false,
 "supportsAdvancedQueries": false,
 "editFieldsInfo": null,
 "ownershipBasedAccessControlForRasters": null,
 "allowComputeTiePoints": false,
 "useStandardizedQueries": true,
 "advancedQueryCapabilities": {
  "useStandardizedQueries": true,
  "supportsStatistics": false,
  "supportsOrderBy": false,
  "supportsDistinct": false,
  "supportsPagination": false
 },
 "spatialReference": {
  "wkid": 3310,
  "latestWkid": 3310
 },
 "resampling": false
}
