{
 "currentVersion": 11.4,
 "serviceDescription": "PREP/Airport_RAVG",
 "name": "PREP/Airport_RAVG",
 "description": "",
 "extent": {
  "xmin": -1971885,
  "ymin": 1391505,
  "xmax": -1950315,
  "ymax": 1411065,
  "spatialReference": {
   "wkid": 102039,
   "latestWkid": 102039
  }
 },
 "initialExtent": {
  "xmin": -1971885,
  "ymin": 1391505,
  "xmax": -1950315,
  "ymax": 1411065,
  "spatialReference": {
   "wkid": 102039,
   "latestWkid": 102039
  }
 },
 "fullExtent": {
  "xmin": -1971885,
  "ymin": 1391505,
  "xmax": -1950315,
  "ymax": 1411065,
  "spatialReference": {
   "wkid": 102039,
   "latestWkid": 102039
  }
 },
 "sortableFields": "",
 "bandCount": 1,
 "pixelType": "U8",
 "minValues": [
  0
 ],
 "maxValues": [
  5
 ],
 "meanValues": [
  1.0786048277686
 ],
 "stdvValues": [
  2.0326086360303
 ],
 "hasMultidimensions": false,
 "pixelSizeX": 30,
 "pixelSizeY": 30,
 "meanPixelSize": 30,
 "datasetFormat": "TIFF",
 "uncompressedSize": 468788,
 "blockWidth": 719,
 "blockHeight": 11,
 "compressionType": "None",
 "bandNames": [
  "Band_1"
 ],
 "allowCopy": true,
 "allowAnalysis": true,
 "itemAccess": false,
 "inspectionCapabilities": "",
 "minPixelSize": 0,
 "maxPixelSize": 0,
 "copyrightText": "",
 "serviceDataType": "esriImageServiceDataTypeThematic",
 "serviceSourceType": "esriImageServiceSourceTypeDataset",
 "objectIdField": "",
 "fields": [],
 "capabilities": "Mensuration,Image,Metadata",
 "defaultMosaicMethod": "Center",
 "allowedMosaicMethods": "",
 "sortField": "",
 "sortValue": null,
 "sortAscending": true,
 "mosaicOperator": "First",
 "defaultCompressionQuality": 75,
 "defaultResamplingMethod": "Nearest",
 "maxImageHeight": 4100,
 "maxImageWidth": 15000,
 "allowRasterFunction": true,
 "rasterFunctionInfos": [
  {
   "name": "None",
   "description": "",
   "help": ""
  }
 ],
 "rasterTypeInfos": [
  {
   "name": "Raster Dataset",
   "description": "Supports all ArcGIS Raster Datasets",
   "help": ""
  }
 ],
 "mensurationCapabilities": "Basic",
 "hasHistograms": true,
 "hasColormap": true,
 "hasRasterAttributeTable": true,
 "minScale": 0,
 "maxScale": 0,
 "exportTilesAllowed": false,
 "supportsStatistics": false,
 "supportsAdvancedQueries": false,
 "editFieldsInfo": null,
 "ownershipBasedAccessControlForRasters": null,
 "allowComputeTiePoints": false,
 "useStandardizedQueries": true,
 "advancedQueryCapabilities": {
  "useStandardizedQueries": true,
  "supportsStatistics": false,
  "supportsOrderBy": false,
  "supportsDistinct": false,
  "supportsPagination": false
 },
 "spatialReference": {
  "wkid": 102039,
  "latestWkid": 102039
 },
 "resampling": false
}
