{
 "currentVersion": 11.4,
 "serviceDescription": "Life history - proportion of herbs. SoCal.",
 "name": "SoCal_Biomass/Herb_proportion_L4_2001_21",
 "description": "Life history - proportion of herbs. SoCal.",
 "extent": {
  "xmin": -121.96127857773591,
  "ymin": 32.47091501244038,
  "xmax": -115.02048266268272,
  "ymax": 36.78897721001515,
  "spatialReference": {
   "wkid": 4326,
   "latestWkid": 4326
  }
 },
 "initialExtent": {
  "xmin": -121.96127857773591,
  "ymin": 32.47091501244038,
  "xmax": -115.02048266268272,
  "ymax": 36.78897721001515,
  "spatialReference": {
   "wkid": 4326,
   "latestWkid": 4326
  }
 },
 "fullExtent": {
  "xmin": -121.96127857773591,
  "ymin": 32.47091501244038,
  "xmax": -115.02048266268272,
  "ymax": 36.78897721001515,
  "spatialReference": {
   "wkid": 4326,
   "latestWkid": 4326
  }
 },
 "sortableFields": "",
 "bandCount": 1,
 "pixelType": "F32",
 "minValues": [
  2.3369384507532E-6
 ],
 "maxValues": [
  0.92764121294022
 ],
 "meanValues": [
  0.19442144666867
 ],
 "stdvValues": [
  0.11829754881849
 ],
 "hasMultidimensions": false,
 "pixelSizeX": 3.170616196177967E-4,
 "pixelSizeY": 3.1706161961779635E-4,
 "meanPixelSize": 35.2951380459437,
 "datasetFormat": "TIFF",
 "uncompressedSize": 1192534116,
 "blockWidth": 128,
 "blockHeight": 128,
 "compressionType": "None",
 "bandNames": [
  "Band_1"
 ],
 "allowCopy": true,
 "allowAnalysis": true,
 "itemAccess": false,
 "inspectionCapabilities": "",
 "noDataValue": -3.4028234663852886E38,
 "noDataValues": [
  -3.4028234663852886E38
 ],
 "minPixelSize": 0,
 "maxPixelSize": 0,
 "copyrightText": "",
 "serviceDataType": "esriImageServiceDataTypeThematic",
 "serviceSourceType": "esriImageServiceSourceTypeDataset",
 "objectIdField": "",
 "fields": [],
 "capabilities": "Image,Metadata,Mensuration",
 "defaultMosaicMethod": "Center",
 "allowedMosaicMethods": "",
 "sortField": "",
 "sortValue": null,
 "sortAscending": true,
 "mosaicOperator": "First",
 "defaultCompressionQuality": 75,
 "defaultResamplingMethod": "Nearest",
 "maxImageHeight": 4100,
 "maxImageWidth": 15000,
 "allowRasterFunction": true,
 "rasterFunctionInfos": [
  {
   "name": "None",
   "description": "",
   "help": ""
  }
 ],
 "rasterTypeInfos": [
  {
   "name": "Raster Dataset",
   "description": "Supports all ArcGIS Raster Datasets",
   "help": ""
  }
 ],
 "mensurationCapabilities": "Basic",
 "hasHistograms": true,
 "hasColormap": false,
 "hasRasterAttributeTable": false,
 "minScale": 0,
 "maxScale": 0,
 "exportTilesAllowed": false,
 "supportsStatistics": false,
 "supportsAdvancedQueries": false,
 "editFieldsInfo": null,
 "ownershipBasedAccessControlForRasters": null,
 "allowComputeTiePoints": false,
 "useStandardizedQueries": true,
 "advancedQueryCapabilities": {
  "useStandardizedQueries": true,
  "supportsStatistics": false,
  "supportsOrderBy": false,
  "supportsDistinct": false,
  "supportsPagination": false
 },
 "spatialReference": {
  "wkid": 4326,
  "latestWkid": 4326
 }
}
