View In:
ArcGIS JavaScript
ArcGIS Online Map Viewer
ArcGIS Earth
Service Description: AllCal_veg_biomass/LF_Shrubland_Mask_tif
Name: AllCal_veg_biomass/LF_Shrubland_Mask_tif
Description:
Single Fused Map Cache: false
Extent:
XMin: -2362857.7754677935
YMin: 1237335.000000001
XMax: -1641627.7754677935
YMax: 2458815.000000001
Spatial Reference: 5070
(5070)
LatestVCSWkid(0)
Initial Extent:
XMin: -2362857.7754677935
YMin: 1237335.000000001
XMax: -1641627.7754677935
YMax: 2458815.000000001
Spatial Reference: 5070
(5070)
LatestVCSWkid(0)
Full Extent:
XMin: -2362857.7754677935
YMin: 1237335.000000001
XMax: -1641627.7754677935
YMax: 2458815.000000001
Spatial Reference: 5070
(5070)
LatestVCSWkid(0)
Pixel Size X: 30.0
Pixel Size Y: 30.0
Band Count: 1
Pixel Type: S32
RasterFunction Infos: {"rasterFunctionInfos": [
{
"name": "CARB_LF_Shrub_mask",
"description": "Shrub mask for the LF-based shrub mask developed by CARB",
"help": ""
},
{
"name": "None",
"description": "",
"help": ""
}
]}
Mensuration Capabilities: Basic
Inspection Capabilities:
Has Histograms: true
Has Colormap: false
Has Multi Dimensions : false
Rendering Rule:
Min Scale: 0
Max Scale: 0
Resampling: false
Copyright Text:
Service Data Type: esriImageServiceDataTypeGeneric
Min Values: 1
Max Values: 134222
Mean Values: 88764.583578657
Standard Deviation Values: 39842.22062351
Object ID Field:
Fields:
None
Default Mosaic Method: Center
Allowed Mosaic Methods:
SortField:
SortValue: null
Mosaic Operator: First
Default Compression Quality: 75
Default Resampling Method: Nearest
Max Record Count: null
Max Image Height: 4100
Max Image Width: 15000
Max Download Image Count: null
Max Mosaic Image Count: null
Allow Raster Function: true
Allow Copy: true
Allow Analysis: true
Allow Compute TiePoints: false
Supports Statistics: false
Supports Advanced Queries: false
Use StandardizedQueries: true
Raster Type Infos:
Name: Raster Dataset
Description: Supports all ArcGIS Raster Datasets
Help:
Has Raster Attribute Table: false
Edit Fields Info: null
Ownership Based AccessControl For Rasters: null
Child Resources:
Info
Histograms
Statistics
Key Properties
Legend
Raster Function Infos
Supported Operations:
Export Image
Identify
Measure
Compute Histograms
Compute Statistics Histograms
Get Samples
Compute Class Statistics
Query Boundary
Compute Pixel Location
Compute Angles
Validate
Project