View In:
ArcGIS JavaScript
ArcGIS Online Map Viewer
ArcGIS Earth
Service Description: AllCal_veg_biomass/RAP_Shrublands_CA_1986_tif
Name: AllCal_veg_biomass/RAP_Shrublands_CA_1986_tif
Description:
Single Fused Map Cache: false
Extent:
XMin: -373995.86623187445
YMin: -604528.0431579336
XMax: 540075.5489742471
YMax: 450043.4716386042
Spatial Reference: 3310
(3310)
LatestVCSWkid(0)
Initial Extent:
XMin: -373995.86623187445
YMin: -604528.0431579336
XMax: 540075.5489742471
YMax: 450043.4716386042
Spatial Reference: 3310
(3310)
LatestVCSWkid(0)
Full Extent:
XMin: -373995.86623187445
YMin: -604528.0431579336
XMax: 540075.5489742471
YMax: 450043.4716386042
Spatial Reference: 3310
(3310)
LatestVCSWkid(0)
Pixel Size X: 43.81513829959359
Pixel Size Y: 45.2411632259347
Band Count: 1
Pixel Type: U8
RasterFunction Infos: {"rasterFunctionInfos": [{
"name": "None",
"description": "",
"help": ""
}]}
Mensuration Capabilities: Basic
Inspection Capabilities:
Has Histograms: true
Has Colormap: false
Has Multi Dimensions : false
Rendering Rule:
Min Scale: 0
Max Scale: 0
Copyright Text:
Service Data Type: esriImageServiceDataTypeThematic
Min Values: 0
Max Values: 1
Mean Values: 0.25027193949654
Standard Deviation Values: 0.43316959346795
Object ID Field:
Fields:
None
Default Mosaic Method: Center
Allowed Mosaic Methods:
SortField:
SortValue: null
Mosaic Operator: First
Default Compression Quality: 75
Default Resampling Method: Bilinear
Max Record Count: null
Max Image Height: 4100
Max Image Width: 15000
Max Download Image Count: null
Max Mosaic Image Count: null
Allow Raster Function: true
Allow Copy: true
Allow Analysis: true
Allow Compute TiePoints: false
Supports Statistics: false
Supports Advanced Queries: false
Use StandardizedQueries: true
Raster Type Infos:
Name: Raster Dataset
Description: Supports all ArcGIS Raster Datasets
Help:
Has Raster Attribute Table: true
Edit Fields Info: null
Ownership Based AccessControl For Rasters: null
Child Resources:
Info
Raster Attribute Table
Histograms
Statistics
Key Properties
Legend
Raster Function Infos
Supported Operations:
Export Image
Identify
Measure
Compute Histograms
Compute Statistics Histograms
Get Samples
Compute Class Statistics
Query Boundary
Compute Pixel Location
Compute Angles
Validate
Project