View In:
ArcGIS JavaScript
ArcGIS Online Map Viewer
ArcGIS Earth
Service Description: AllCal_veg_biomass/rcmap_vts_tif
Name: AllCal_veg_biomass/rcmap_vts_tif
Description:
Single Fused Map Cache: false
Extent:
XMin: -2356125.0000175117
YMin: 1242344.9999793097
XMax: -1646655.0000175117
YMax: 2452724.9999793097
Spatial Reference: 0
(0)
LatestVCSWkid(0)
Initial Extent:
XMin: -2356125.0000175117
YMin: 1242344.9999793097
XMax: -1646655.0000175117
YMax: 2452724.9999793097
Spatial Reference: 0
(0)
LatestVCSWkid(0)
Full Extent:
XMin: -2356125.0000175117
YMin: 1242344.9999793097
XMax: -1646655.0000175117
YMax: 2452724.9999793097
Spatial Reference: 0
(0)
LatestVCSWkid(0)
Pixel Size X: 30.0
Pixel Size Y: 30.0
Band Count: 1
Pixel Type: U2
RasterFunction Infos: {"rasterFunctionInfos": [{
"name": "None",
"description": "",
"help": ""
}]}
Mensuration Capabilities: Basic
Inspection Capabilities:
Has Histograms: true
Has Colormap: false
Has Multi Dimensions : false
Rendering Rule:
Min Scale: 0
Max Scale: 0
Copyright Text:
Service Data Type: esriImageServiceDataTypeThematic
Min Values: 1
Max Values: 3
Mean Values: 1.8922699719373
Standard Deviation Values: 0.59279650450284
Object ID Field:
Fields:
None
Default Mosaic Method: Center
Allowed Mosaic Methods:
SortField:
SortValue: null
Mosaic Operator: First
Default Compression Quality: 75
Default Resampling Method: Bilinear
Max Record Count: null
Max Image Height: 4100
Max Image Width: 15000
Max Download Image Count: null
Max Mosaic Image Count: null
Allow Raster Function: true
Allow Copy: true
Allow Analysis: true
Allow Compute TiePoints: false
Supports Statistics: false
Supports Advanced Queries: false
Use StandardizedQueries: true
Raster Type Infos:
Name: Raster Dataset
Description: Supports all ArcGIS Raster Datasets
Help:
Has Raster Attribute Table: true
Edit Fields Info: null
Ownership Based AccessControl For Rasters: null
Child Resources:
Info
Raster Attribute Table
Histograms
Statistics
Key Properties
Legend
Raster Function Infos
Supported Operations:
Export Image
Identify
Measure
Compute Histograms
Compute Statistics Histograms
Get Samples
Compute Class Statistics
Query Boundary
Compute Pixel Location
Compute Angles
Validate
Project