View In:
ArcGIS JavaScript
ArcGIS Online Map Viewer
ArcGIS Earth
Service Description: PREP/Creek_Herb
Name: PREP/Creek_Herb
Description:
Single Fused Map Cache: false
Extent:
XMin: 145874.53177428164
YMin: -417439.7612128855
XMax: 157352.53130172266
YMax: -407358.10177829996
Spatial Reference: 0
(0)
LatestVCSWkid(0)
Initial Extent:
XMin: 145874.53177428164
YMin: -417439.7612128855
XMax: 157352.53130172266
YMax: -407358.10177829996
Spatial Reference: 0
(0)
LatestVCSWkid(0)
Full Extent:
XMin: 145874.53177428164
YMin: -417439.7612128855
XMax: 157352.53130172266
YMax: -407358.10177829996
Spatial Reference: 0
(0)
LatestVCSWkid(0)
Pixel Size X: 28.552237630450293
Pixel Size Y: 28.804741241672975
Band Count: 1
Pixel Type: U8
RasterFunction Infos: {"rasterFunctionInfos": [{
"name": "None",
"description": "",
"help": ""
}]}
Mensuration Capabilities: Basic
Inspection Capabilities:
Has Histograms: true
Has Colormap: false
Has Multi Dimensions : false
Rendering Rule:
Min Scale: 0
Max Scale: 0
Copyright Text:
Service Data Type: esriImageServiceDataTypeGeneric
Min Values: 0
Max Values: 87
Mean Values: 30.547334072962
Standard Deviation Values: 21.037301243458
Object ID Field:
Fields:
None
Default Mosaic Method: Center
Allowed Mosaic Methods:
SortField:
SortValue: null
Mosaic Operator: First
Default Compression Quality: 75
Default Resampling Method: Bilinear
Max Record Count: null
Max Image Height: 4100
Max Image Width: 15000
Max Download Image Count: null
Max Mosaic Image Count: null
Allow Raster Function: true
Allow Copy: true
Allow Analysis: true
Allow Compute TiePoints: false
Supports Statistics: false
Supports Advanced Queries: false
Use StandardizedQueries: true
Raster Type Infos:
Name: Raster Dataset
Description: Supports all ArcGIS Raster Datasets
Help:
Has Raster Attribute Table: false
Edit Fields Info: null
Ownership Based AccessControl For Rasters: null
Child Resources:
Info
Histograms
Statistics
Key Properties
Legend
Raster Function Infos
Supported Operations:
Export Image
Identify
Measure
Compute Histograms
Compute Statistics Histograms
Get Samples
Compute Class Statistics
Query Boundary
Compute Pixel Location
Compute Angles
Validate
Project