View In:
ArcGIS JavaScript
ArcGIS Online Map Viewer
ArcGIS Earth
Service Description: PREP/Creek_WHR_Topo_Facets
Name: PREP/Creek_WHR_Topo_Facets
Description:
Single Fused Map Cache: false
Extent:
XMin: 145897.64490000054
YMin: -417440.8965000082
XMax: 157357.64490000223
YMax: -407360.896499997
Spatial Reference: 0
(0)
LatestVCSWkid(0)
Initial Extent:
XMin: 145897.64490000054
YMin: -417440.8965000082
XMax: 157357.64490000223
YMax: -407360.896499997
Spatial Reference: 0
(0)
LatestVCSWkid(0)
Full Extent:
XMin: 145897.64490000054
YMin: -417440.8965000082
XMax: 157357.64490000223
YMax: -407360.896499997
Spatial Reference: 0
(0)
LatestVCSWkid(0)
Pixel Size X: 30.00000000000442
Pixel Size Y: 30.00000000003326
Band Count: 1
Pixel Type: U8
RasterFunction Infos: {"rasterFunctionInfos": [{
"name": "None",
"description": "",
"help": ""
}]}
Mensuration Capabilities: Basic
Inspection Capabilities:
Has Histograms: true
Has Colormap: true
Has Multi Dimensions : false
Rendering Rule:
Min Scale: 0
Max Scale: 0
Resampling: false
Copyright Text:
Service Data Type: esriImageServiceDataTypeThematic
Min Values: 1
Max Values: 11
Mean Values: 6.4682172325562
Standard Deviation Values: 2.5153799273927
Object ID Field:
Fields:
None
Default Mosaic Method: Center
Allowed Mosaic Methods:
SortField:
SortValue: null
Mosaic Operator: First
Default Compression Quality: 75
Default Resampling Method: Nearest
Max Record Count: null
Max Image Height: 4100
Max Image Width: 15000
Max Download Image Count: null
Max Mosaic Image Count: null
Allow Raster Function: true
Allow Copy: true
Allow Analysis: true
Allow Compute TiePoints: false
Supports Statistics: false
Supports Advanced Queries: false
Use StandardizedQueries: true
Raster Type Infos:
Name: Raster Dataset
Description: Supports all ArcGIS Raster Datasets
Help:
Has Raster Attribute Table: true
Edit Fields Info: null
Ownership Based AccessControl For Rasters: null
Child Resources:
Info
Raster Attribute Table
Histograms
Statistics
Key Properties
Color Map
Legend
Raster Function Infos
Supported Operations:
Export Image
Identify
Measure
Compute Histograms
Compute Statistics Histograms
Get Samples
Compute Class Statistics
Query Boundary
Compute Pixel Location
Compute Angles
Validate
Project