View In:
ArcGIS JavaScript
ArcGIS Online Map Viewer
ArcGIS Earth
Service Description: 2018 herbaceous proportions for SoCal from Park et al 2018
Name: SoCal_Biomass/HerbCov2018_Alb
Description: 2018 herbaceous proportions for SoCal from Park et al 2018
Single Fused Map Cache: false
Extent:
XMin: -205636.03896761965
YMin: -625562.529671412
XMax: 397363.96103238035
YMax: -109082.52967141196
Spatial Reference: 3310
(3310)
LatestVCSWkid(0)
Initial Extent:
XMin: -205636.03896761965
YMin: -625562.529671412
XMax: 397363.96103238035
YMax: -109082.52967141196
Spatial Reference: 3310
(3310)
LatestVCSWkid(0)
Full Extent:
XMin: -205636.03896761965
YMin: -625562.529671412
XMax: 397363.96103238035
YMax: -109082.52967141196
Spatial Reference: 3310
(3310)
LatestVCSWkid(0)
Pixel Size X: 30.0
Pixel Size Y: 30.0
Band Count: 1
Pixel Type: F64
RasterFunction Infos: {"rasterFunctionInfos": [{
"name": "None",
"description": "",
"help": ""
}]}
Mensuration Capabilities: Basic
Inspection Capabilities:
Has Histograms: false
Has Colormap: false
Has Multi Dimensions : false
Rendering Rule:
Min Scale: 0
Max Scale: 0
Copyright Text:
Service Data Type: esriImageServiceDataTypeGeneric
Min Values: 0.099566668272018
Max Values: 98.279167175293
Mean Values: 33.868084568826
Standard Deviation Values: 27.445753219059
Object ID Field:
Fields:
None
Default Mosaic Method: Center
Allowed Mosaic Methods:
SortField:
SortValue: null
Mosaic Operator: First
Default Compression Quality: 75
Default Resampling Method: Bilinear
Max Record Count: null
Max Image Height: 4100
Max Image Width: 15000
Max Download Image Count: null
Max Mosaic Image Count: null
Allow Raster Function: true
Allow Copy: true
Allow Analysis: true
Allow Compute TiePoints: false
Supports Statistics: false
Supports Advanced Queries: false
Use StandardizedQueries: true
Raster Type Infos:
Name: Raster Dataset
Description: Supports all ArcGIS Raster Datasets
Help:
Has Raster Attribute Table: false
Edit Fields Info: null
Ownership Based AccessControl For Rasters: null
Child Resources:
Info
Statistics
Key Properties
Legend
Raster Function Infos
Supported Operations:
Export Image
Identify
Measure
Compute Histograms
Compute Statistics Histograms
Get Samples
Compute Class Statistics
Query Boundary
Compute Pixel Location
Compute Angles
Validate
Project