View In:
ArcGIS JavaScript
ArcGIS Online Map Viewer
ArcGIS Earth
Service Description: Life history - proportion of resprouters. SoCal
Name: SoCal_Biomass/Resprouters_proportion_L4_2001_21
Description: Life history - proportion of resprouters. SoCal
Single Fused Map Cache: false
Extent:
XMin: -121.96127857773591
YMin: 32.47091501244038
XMax: -115.02048266268272
YMax: 36.78897721001515
Spatial Reference: 4326
(4326)
LatestVCSWkid(0)
Initial Extent:
XMin: -121.96127857773591
YMin: 32.47091501244038
XMax: -115.02048266268272
YMax: 36.78897721001515
Spatial Reference: 4326
(4326)
LatestVCSWkid(0)
Full Extent:
XMin: -121.96127857773591
YMin: 32.47091501244038
XMax: -115.02048266268272
YMax: 36.78897721001515
Spatial Reference: 4326
(4326)
LatestVCSWkid(0)
Pixel Size X: 3.170616196177967E-4
Pixel Size Y: 3.1706161961779635E-4
Band Count: 1
Pixel Type: F32
RasterFunction Infos: {"rasterFunctionInfos": [{
"name": "None",
"description": "",
"help": ""
}]}
Mensuration Capabilities: Basic
Inspection Capabilities:
Has Histograms: true
Has Colormap: false
Has Multi Dimensions : false
Rendering Rule:
Min Scale: 0
Max Scale: 0
Copyright Text:
Service Data Type: esriImageServiceDataTypeThematic
Min Values: 4.1563262129785E-6
Max Values: 0.72768950462341
Mean Values: 0.1566463288489
Standard Deviation Values: 0.075948066410397
Object ID Field:
Fields:
None
Default Mosaic Method: Center
Allowed Mosaic Methods:
SortField:
SortValue: null
Mosaic Operator: First
Default Compression Quality: 75
Default Resampling Method: Nearest
Max Record Count: null
Max Image Height: 4100
Max Image Width: 15000
Max Download Image Count: null
Max Mosaic Image Count: null
Allow Raster Function: true
Allow Copy: true
Allow Analysis: true
Allow Compute TiePoints: false
Supports Statistics: false
Supports Advanced Queries: false
Use StandardizedQueries: true
Raster Type Infos:
Name: Raster Dataset
Description: Supports all ArcGIS Raster Datasets
Help:
Has Raster Attribute Table: false
Edit Fields Info: null
Ownership Based AccessControl For Rasters: null
Child Resources:
Info
Histograms
Statistics
Key Properties
Legend
Raster Function Infos
Supported Operations:
Export Image
Identify
Measure
Compute Histograms
Compute Statistics Histograms
Get Samples
Compute Class Statistics
Query Boundary
Compute Pixel Location
Compute Angles
Validate
Project