View In:
ArcGIS JavaScript
ArcGIS Online Map Viewer
ArcGIS Earth
Service Description: Standing dead biomass - SoCal 2014
Name: SoCal_Biomass/SDBM_14
Description: Standing dead biomass - SoCal 2014
Single Fused Map Cache: false
Extent:
XMin: -174810.0
YMin: -604560.0000000005
XMax: 444184.386482868
YMax: -136448.17996550672
Spatial Reference: 0
(0)
LatestVCSWkid(0)
Initial Extent:
XMin: -174810.0
YMin: -604560.0000000005
XMax: 444184.386482868
YMax: -136448.17996550672
Spatial Reference: 0
(0)
LatestVCSWkid(0)
Full Extent:
XMin: -174810.0
YMin: -604560.0000000005
XMax: 444184.386482868
YMax: -136448.17996550672
Spatial Reference: 0
(0)
LatestVCSWkid(0)
Pixel Size X: 35.7965756698397
Pixel Size Y: 35.7965756698397
Band Count: 1
Pixel Type: F32
RasterFunction Infos: {"rasterFunctionInfos": [{
"name": "None",
"description": "",
"help": ""
}]}
Mensuration Capabilities: Basic
Inspection Capabilities:
Has Histograms: true
Has Colormap: false
Has Multi Dimensions : false
Rendering Rule:
Min Scale: 0
Max Scale: 0
Copyright Text:
Service Data Type: esriImageServiceDataTypeGeneric
Min Values: 3.15590842348E-9
Max Values: 24.037570953369
Mean Values: 0.80894577793304
Standard Deviation Values: 1.1451361623328
Object ID Field:
Fields:
None
Default Mosaic Method: Center
Allowed Mosaic Methods:
SortField:
SortValue: null
Mosaic Operator: First
Default Compression Quality: 75
Default Resampling Method: Bilinear
Max Record Count: null
Max Image Height: 4100
Max Image Width: 15000
Max Download Image Count: null
Max Mosaic Image Count: null
Allow Raster Function: true
Allow Copy: true
Allow Analysis: true
Allow Compute TiePoints: false
Supports Statistics: false
Supports Advanced Queries: false
Use StandardizedQueries: true
Raster Type Infos:
Name: Raster Dataset
Description: Supports all ArcGIS Raster Datasets
Help:
Has Raster Attribute Table: false
Edit Fields Info: null
Ownership Based AccessControl For Rasters: null
Child Resources:
Info
Histograms
Statistics
Key Properties
Legend
Raster Function Infos
Supported Operations:
Export Image
Identify
Measure
Compute Histograms
Compute Statistics Histograms
Get Samples
Compute Class Statistics
Query Boundary
Compute Pixel Location
Compute Angles
Validate
Project