View In:
ArcGIS JavaScript
ArcGIS Online Map Viewer
ArcGIS Earth
Service Description: An accurate depiction of the spatial distribution of habitat types within California is required for a variety of legislatively-mandated government functions. The California Department of Forestry and Fire Protections CALFIRE Fire and Resource Assessment Program (FRAP), in cooperation with California Department of Fish and Wildlife VegCamp program and extensive use of USDA Forest Service Region 5 Remote Sensing Laboratory (RSL) data, has compiled the "best available" land cover data available for California into a single comprehensive statewide data set. The data span a period from approximately 1990 to 2014. Typically the most current, detailed and consistent data were collected for various regions of the state. Decision rules were developed that controlled which layers were given priority in areas of overlap. Cross-walks were used to compile the various sources into the common classification scheme, the California Wildlife Habitat Relationships (CWHR) system.
Name: AllCal_veg_biomass/Fveg_CWHR
Description: An accurate depiction of the spatial distribution of habitat types within California is required for a variety of legislatively-mandated government functions. The California Department of Forestry and Fire Protections CALFIRE Fire and Resource Assessment Program (FRAP), in cooperation with California Department of Fish and Wildlife VegCamp program and extensive use of USDA Forest Service Region 5 Remote Sensing Laboratory (RSL) data, has compiled the "best available" land cover data available for California into a single comprehensive statewide data set. The data span a period from approximately 1990 to 2014. Typically the most current, detailed and consistent data were collected for various regions of the state. Decision rules were developed that controlled which layers were given priority in areas of overlap. Cross-walks were used to compile the various sources into the common classification scheme, the California Wildlife Habitat Relationships (CWHR) system.
Single Fused Map Cache: false
Extent:
XMin: -918537.1459000353
YMin: -896040.0
XMax: 832262.8540999647
YMax: 812400.0
Spatial Reference: 3310
(3310)
LatestVCSWkid(0)
Initial Extent:
XMin: -918537.1459000353
YMin: -896040.0
XMax: 832262.8540999647
YMax: 812400.0
Spatial Reference: 3310
(3310)
LatestVCSWkid(0)
Full Extent:
XMin: -918537.1459000353
YMin: -896040.0
XMax: 832262.8540999647
YMax: 812400.0
Spatial Reference: 3310
(3310)
LatestVCSWkid(0)
Pixel Size X: 30.0
Pixel Size Y: 30.0
Band Count: 1
Pixel Type: U8
RasterFunction Infos: {"rasterFunctionInfos": [
{
"name": "Shrubs_only_item",
"description": "afdasefas",
"help": ""
},
{
"name": "Grass",
"description": "A raster function template.",
"help": ""
},
{
"name": "CWHR_shrubs",
"description": "Shrub classess for reclassed CHWHR",
"help": ""
},
{
"name": "Shrubs",
"description": "A raster function template.",
"help": ""
},
{
"name": "Woodlandss.rft",
"description": "A raster function template.",
"help": ""
},
{
"name": "None",
"description": "",
"help": ""
}
]}
Mensuration Capabilities: Basic
Inspection Capabilities:
Has Histograms: true
Has Colormap: false
Has Multi Dimensions : false
Rendering Rule:
Min Scale: 0
Max Scale: 0
Resampling: false
Copyright Text: https://wildlife.ca.gov/Data/VegCAMP http://www.fs.fed.us/r5/rsl/projects/mapping/ http://www.fs.fed.us/pnw/fia/ https://frap.fire.ca.gov/
Service Data Type: esriImageServiceDataTypeThematic
Min Values: 0
Max Values: 62
Mean Values: 4.1880245568702
Standard Deviation Values: 12.430181900875
Object ID Field:
Fields:
None
Default Mosaic Method: Center
Allowed Mosaic Methods:
SortField:
SortValue: null
Mosaic Operator: First
Default Compression Quality: 75
Default Resampling Method: Nearest
Max Record Count: null
Max Image Height: 4100
Max Image Width: 15000
Max Download Image Count: null
Max Mosaic Image Count: null
Allow Raster Function: true
Allow Copy: true
Allow Analysis: true
Allow Compute TiePoints: false
Supports Statistics: false
Supports Advanced Queries: false
Use StandardizedQueries: true
Raster Type Infos:
Name: Raster Dataset
Description: Supports all ArcGIS Raster Datasets
Help:
Has Raster Attribute Table: true
Edit Fields Info: null
Ownership Based AccessControl For Rasters: null
Child Resources:
Info
Raster Attribute Table
Histograms
Statistics
Key Properties
Legend
Raster Function Infos
Supported Operations:
Export Image
Identify
Measure
Compute Histograms
Compute Statistics Histograms
Get Samples
Compute Class Statistics
Query Boundary
Compute Pixel Location
Compute Angles
Validate
Project