View In:
ArcGIS JavaScript
ArcGIS Online Map Viewer
ArcGIS Earth
Service Description: AllCal_veg_biomass/ShrublandSegmentationMap_13Nov2025
Name: AllCal_veg_biomass/ShrublandSegmentationMap_13Nov2025
Description:
Single Fused Map Cache: false
Extent:
XMin: -425173.85258526
YMin: -736370.5636150965
XMax: 586456.4909213567
YMax: 615599.8026387645
Spatial Reference: 3310
(3310)
LatestVCSWkid(0)
Initial Extent:
XMin: -425173.85258526
YMin: -736370.5636150965
XMax: 586456.4909213567
YMax: 615599.8026387645
Spatial Reference: 3310
(3310)
LatestVCSWkid(0)
Full Extent:
XMin: -425173.85258526
YMin: -736370.5636150965
XMax: 586456.4909213567
YMax: 615599.8026387645
Spatial Reference: 3310
(3310)
LatestVCSWkid(0)
Pixel Size X: 29.999120559475024
Pixel Size Y: 29.999120559475028
Band Count: 1
Pixel Type: U16
RasterFunction Infos: {"rasterFunctionInfos": [
{
"name": "CARB_Segs_EVT",
"description": "CARB segs evt",
"help": ""
},
{
"name": "None",
"description": "",
"help": ""
}
]}
Mensuration Capabilities: Basic
Inspection Capabilities:
Has Histograms: false
Has Colormap: false
Has Multi Dimensions : false
Rendering Rule:
Min Scale: 0
Max Scale: 0
Resampling: false
Copyright Text:
Service Data Type: esriImageServiceDataTypeGeneric
Min Values: 1
Max Values: 88
Mean Values: -9999
Standard Deviation Values: -9999
Object ID Field:
Fields:
None
Default Mosaic Method: Center
Allowed Mosaic Methods:
SortField:
SortValue: null
Mosaic Operator: First
Default Compression Quality: 75
Default Resampling Method: Nearest
Max Record Count: null
Max Image Height: 4100
Max Image Width: 15000
Max Download Image Count: null
Max Mosaic Image Count: null
Allow Raster Function: true
Allow Copy: true
Allow Analysis: true
Allow Compute TiePoints: false
Supports Statistics: false
Supports Advanced Queries: false
Use StandardizedQueries: true
Raster Type Infos:
Name: Raster Dataset
Description: Supports all ArcGIS Raster Datasets
Help:
Has Raster Attribute Table: false
Edit Fields Info: null
Ownership Based AccessControl For Rasters: null
Child Resources:
Info
Statistics
Key Properties
Legend
Raster Function Infos
Supported Operations:
Export Image
Identify
Measure
Compute Histograms
Compute Statistics Histograms
Get Samples
Compute Class Statistics
Query Boundary
Compute Pixel Location
Compute Angles
Validate
Project